BEGIN:VCALENDAR
VERSION:2.0
PRODID:-//American Cane Self Defense - ECPv6.15.20//NONSGML v1.0//EN
CALSCALE:GREGORIAN
METHOD:PUBLISH
X-ORIGINAL-URL:https://americancaneselfdefense.com
X-WR-CALDESC:Events for American Cane Self Defense
REFRESH-INTERVAL;VALUE=DURATION:PT1H
X-Robots-Tag:noindex
X-PUBLISHED-TTL:PT1H
BEGIN:VTIMEZONE
TZID:America/New_York
BEGIN:DAYLIGHT
TZOFFSETFROM:-0500
TZOFFSETTO:-0400
TZNAME:EDT
DTSTART:20190310T070000
END:DAYLIGHT
BEGIN:STANDARD
TZOFFSETFROM:-0400
TZOFFSETTO:-0500
TZNAME:EST
DTSTART:20191103T060000
END:STANDARD
BEGIN:DAYLIGHT
TZOFFSETFROM:-0500
TZOFFSETTO:-0400
TZNAME:EDT
DTSTART:20200308T070000
END:DAYLIGHT
BEGIN:STANDARD
TZOFFSETFROM:-0400
TZOFFSETTO:-0500
TZNAME:EST
DTSTART:20201101T060000
END:STANDARD
BEGIN:DAYLIGHT
TZOFFSETFROM:-0500
TZOFFSETTO:-0400
TZNAME:EDT
DTSTART:20210314T070000
END:DAYLIGHT
BEGIN:STANDARD
TZOFFSETFROM:-0400
TZOFFSETTO:-0500
TZNAME:EST
DTSTART:20211107T060000
END:STANDARD
END:VTIMEZONE
BEGIN:VEVENT
DTSTART;TZID=America/New_York:20200206T090000
DTEND;TZID=America/New_York:20200208T140000
DTSTAMP:20260425T063545
CREATED:20190730T164001Z
LAST-MODIFIED:20191226T164638Z
UID:8500-1580979600-1581170400@americancaneselfdefense.com
SUMMARY:Combat Cane Spinning Society Certification Immersion Training!
DESCRIPTION:The CCSS’ First Official Combat Cane Spinning Certifiction Immersion Training in Miami\, Fl!\nLIMITED TO 18 CANERS-\n(UPDATE 3 Spots Remaining As of 12/26/19) \n– Split Pay Option Opened in October- \n– Open To Beginners\, Inetrmediate\, Advanced\, and Master Instructors – \nRegardless of whether you want to be the first to offer Combat Cane Spinning in your community or just want to take your personal skills to the highest levels\, THIS is your unique opportunity to do it directly with the Founders and Master Instructors of the movement. \nThe CCSS is the FIRST and only organization dedicated to promoting the art and science behind Combat Cane Spinning and its’ benefits in the Functional Aging arena. \nDuring this unique 3-Day Immersion Training you will not only take your physical skills sets to the highest levels\, you will understand what the scientific evidence says about Combat Cane Spinning skill sets in regards to physical and brain health and more importantly\, learn how to communicate and demonstrate it effectively and efficiently to your audience. \nCombat Cane Spinning (CCS) is one of the three main components of American Cane Self Defense (ACSD). It consists of solo\, combative movements in a non-scripted flow and the same in a two player format referred to as “Cane Play.” The training teaches students simulated combat while applying the ACSD techniques with power\, speed\, and accuracy in a controlled manner. \nCCS is an activity/sport that appeals to Cane Players (Caners) of all ages with physical\, mental\, and social benefits. It provides a complete workout with an emphais on hand-eye coordination\, stamina\, balance\, agility\, and flexibility.  As the name implies\, the hallmark of CCS and what differetiates it from all other forms of Cane Spinning\, is that every maneuver\, footwork\, and technique is performed with a self defense purpose. \n3-Day Combat Cane Spinning Itinerary  \nDay 1 Thursday (9am-1pm) \n-Combat Cane Spinning as defined by the Combat Cane Spinning Society. \n–  Introduction and Demonstration of Solo\, Cane Play and Cane Dueling. \n–  The scientific evidence on CCS and how to present and demonstrate it to your Functional Aging Market (fastest growing market). \n– Complete APPRENTICE/LEADER Curriculum\, Drills for Skills\, and How To Teach It \nIntroduction To Cane Play \nDay 2 Friday (9am-12pm) \n– The CCS Alphabet: Presentation on the 6 Form System and How To Use It To Create Your Own CCS Compositions. \n– The Complete ADVANCED (Instructor) Curriculum\, Drills for Skills\, and How To Teach It \nDay 3 Saturday (9am-12pm) \n–  The Complete MASTER (Instructor) Curriculum\, Drills for Skills and How To Teach It. \n– Dance of the Masters: Participate in Solo\, Cane Play\, and Cane Dueling Sessions with CCS Master Instructors. \n– How To Create The Culture and Organize CCS Meets in Your Communities That Create Life Long Caners. \n– Q & A Session \n–  CCS Graduation & Lunch: Awarding of CCSS APPRENTICE\, ADVANCED\, and MASTER Ranks\, Bands\, Appointments\, and Licenses. \n( Ranks are awarded by the CCSS Board based on demonstrable skill level of Caners) \n– Grad Nite Dinner Outing: Wear Your CCS Event Shirts! \nCCSS Pro-Shop will be available througout the event for Cool Merch\, Spinner Canes\, and all things Caners love. \nRegistration Includes: 3 Day Immersion Training\, Materials\, 12 Month All Inclusive Online Access  to Cane Self Defense University\, 12 Month Membership in the Combat Cane Spinning Society with Ranks\, Certificates\, Pin\, Decal\, and Rank Bands. All templates and presentations you need to start offering CCS in your communty for 12 months. \nEvent is Discounted for CSDU LIFETIME Members and Current ACSD Licensees. \nThe Ratio of Instructors to Caners Will Be 6 to 1 for Maximum Personal Attention. That’s why we’re only opening it to 18 Caners. \nMake plans to attend NOW. \nCall 800-289-8188 for details or Text CANER2020 to 305-745-7839 \nCOMBAT Cane Spinning Is For Everyone! Follow us on our Youtube Channel: American Cane Self Defense \n  \nResources\nSPECIAL GUEST: GM Mark Shuey In Attendance!\nWhat an opportunity to interact with the two World Leaders of The Cane Culture!\n  \nCombat Cane Spinning for Self Defense?\n \n  \nYour Invitation from Joe Robaina\n  \n \nCombat Cane Spinning Master\, Keith Melton\n \nCombat Cane Spinning is the Fastest Growing Segment in the Cane Culture!\n \n  \nLimited to 18 Caners from Beginners to Master Level\n \nThe ACSD Immersion Expereince is Unforgettable!
URL:https://americancaneselfdefense.com/event/combat-cane-spinning-society-certification-immersion-training/
LOCATION:ACSD HQ\, 1501 SW 8Th Stree\, Miami\, FL\, 33135\, United States
CATEGORIES:Combat Cane Spinning
ATTACH;FMTTYPE=image/png:https://americancaneselfdefense.com/wp-content/uploads/2019/11/CCSS-Member-Logo-Black-Yellow-2019.png
END:VEVENT
END:VCALENDAR