BEGIN:VCALENDAR
VERSION:2.0
PRODID:-//American Cane Self Defense - ECPv6.15.20//NONSGML v1.0//EN
CALSCALE:GREGORIAN
METHOD:PUBLISH
X-ORIGINAL-URL:https://americancaneselfdefense.com
X-WR-CALDESC:Events for American Cane Self Defense
REFRESH-INTERVAL;VALUE=DURATION:PT1H
X-Robots-Tag:noindex
X-PUBLISHED-TTL:PT1H
BEGIN:VTIMEZONE
TZID:America/New_York
BEGIN:DAYLIGHT
TZOFFSETFROM:-0500
TZOFFSETTO:-0400
TZNAME:EDT
DTSTART:20220313T070000
END:DAYLIGHT
BEGIN:STANDARD
TZOFFSETFROM:-0400
TZOFFSETTO:-0500
TZNAME:EST
DTSTART:20221106T060000
END:STANDARD
BEGIN:DAYLIGHT
TZOFFSETFROM:-0500
TZOFFSETTO:-0400
TZNAME:EDT
DTSTART:20230312T070000
END:DAYLIGHT
BEGIN:STANDARD
TZOFFSETFROM:-0400
TZOFFSETTO:-0500
TZNAME:EST
DTSTART:20231105T060000
END:STANDARD
BEGIN:DAYLIGHT
TZOFFSETFROM:-0500
TZOFFSETTO:-0400
TZNAME:EDT
DTSTART:20240310T070000
END:DAYLIGHT
BEGIN:STANDARD
TZOFFSETFROM:-0400
TZOFFSETTO:-0500
TZNAME:EST
DTSTART:20241103T060000
END:STANDARD
BEGIN:DAYLIGHT
TZOFFSETFROM:-0500
TZOFFSETTO:-0400
TZNAME:EDT
DTSTART:20250309T070000
END:DAYLIGHT
BEGIN:STANDARD
TZOFFSETFROM:-0400
TZOFFSETTO:-0500
TZNAME:EST
DTSTART:20251102T060000
END:STANDARD
END:VTIMEZONE
BEGIN:VEVENT
DTSTART;TZID=America/New_York:20240924T150000
DTEND;TZID=America/New_York:20240927T140000
DTSTAMP:20260424T213215
CREATED:20201108T160324Z
LAST-MODIFIED:20240918T204338Z
UID:9996-1727190000-1727445600@americancaneselfdefense.com
SUMMARY:Fall Cane Immersion  2024 Sept 24-27:  "FLOW"-Ruiz & Robaina!!
DESCRIPTION:FLOW: Sobrevivencia & SV CaneFlow in Miami\, Fl!\nTUESDAY BONUS: Cane Healing Arts\n(UPDATE: SOLD OUT)\nLIMITED SPOTS\, LIMITED TIME FOR ONLINE VERSION \n– OPEN TO BEGINNERS\, INTERMEDIATE\, and ADVANCED CANERS- \n(Pre -Requisite: SV Annual Membership &ACSD Level 1 Cane & Empty Hand Highly Recommended) \nTEXT “FALL2024” To 305-745-7839 OR CALL 800-289-8188\nBONUS # 1 Cane Healing Arts- a look at the original Quantum Cane Healing with founder Joe Robaina – \nA look at the use of the Cane for healing passively for the reciever- protocols for musculoskeletal injuries\, and the original supine/prone protocol \nThis 4 Day training will feature both  Sobrevivencia founder Maestro Eduardo Ruiz and ACSD/CaneFlow founder Joe Robaina. \nWednesdy (9am-2pm EST) Maestro Ruiz will be sharing Sobrevivencia with an emphasis on FLOW and fluidity in both functional movement and self protection. Cane (tool) and Empty Hand will be covered. \nThursday & Friday (9am-2pm) will feature Joe Robaina sharing his expression of SV Flow (SV + CaneFlow) Joe will be workiing with in-person Caners on enhancing their Flows and providing insights to the pracical self protection applications of every movement\, both Cane & Empty Hand. \nThis Immersion offered both in person and online\, provides Hands-on training with BOTH founders is tough to beat as you will experience first hand the details of one of the most comprehensive combative and movement based systems oin modern times. \nDuring this unique 4-Day Immersion Training\, not only will you enhance your Cane and empty hand self defense skills to the most effective levels\,  if you’re looking to teach it\, you will learn how to communicate and demonstrate the curriculum effectively and efficiently to those you serve. \n  \nIF YOU’RE NEW TO SOBREVIVENCIA and CANEFLOW \nBoth SV and CaneFlow  cover dynamic footwork/striking\, tactical strategy. locking\, ground survival\, gun\, knife\, and impact weapon defense strategies in movement based exercises\, templates\, and drills. They both emphasize peaceful conflict resolution and the the ability to escalate /deescalate as necessary.   The training is engrained in the nerve system\, so you can respond appropriately under the stress of an assault without being paralyzed by the fear and shock of the moment. \nBoth are a fun workout and stress reliever that appeal to all ages but especailly the over 50. The physical and mental benefits complement practical self defense skills.  They provide a complete workout with an emphasis on awareness\, timely decision making\,  hand-eye coordination\, stamina\, balance\, agility\, and flexibility.  Practical self defense\, fitness\, and fun rolled into one! \n4-Day Fall Cane Immersion Itinerary  \nTuesday Afternoon Session 3pm-5pm – Cane Healing Arts with  with Joe Robaina \nDay 1 Wednesday Day of Sobrevivencia-Maestro Ruiz (9am-2pm)  \n8:30am-Doors open for Meet/Greet & Fellowship \n -SV Warm Up and SV Hands On Training with an emphasis on Flow\, Movement Fluidity\, and Tension Free applications \nPost Class Outing: We’re taking our Flows To Margaritaville Hollywood Beach\, Fl! Please wear your ACSD Hawaain Shirst if you have them! \nDay 2 Thursday Day of Cane & Empty Hand -Joe Robaina (9am-2pm)  \n8:30am-Doors open for Meet/Greet & Fellowship \n\nCaneFlow Warm Up\, Cane Empty Hand Intro & Demonstration\nCaneFlow Footwork\nCaneFlow Handling\nCaneFlow Chuk Flow for Recovery and Self Protection\nCaneFlow Cane & Empty Hand Applications\nCaner Circle Flow and Applications\n\nDay 3 Friday (9am-2pm) \n8:30am-Doors open for Meet/Greet & Fellowship \nIntroduction To 2 Caner CanePlay \nExtending the ACSD 12 Strike/Defend Zones for Flow \nSV FLOW RESPONSES FOR… \n\nDefending Against Edged Weapons\, Cane & Empty Hand\nDefending Against Firearm Assaults\, Cane & Empty Hand\nDefending Against Multiple Assailants and Walking/Entering the Circle\nHow To put it ALL Together (vreate your own Flows) so you’re ALWAYS FLOWING! never have to wonder about your next move!\n\n– Q & A Session with Instructor & CEC Panel \n–  SV/CaneFlow Graduation & Lunch: Awarding of SV Flow Certificates\, Appointments\, and Teaching Licenses if applicable. \n( SV/ACSD Certifications are awarded by ACSD based on completion of training and demonstrable skill level of Caners) \nCertifications will not be awarded to online participants. \n– Grad Day Lunch Outing: Wear Your Cane Immersion Shirts! \nACSD/SV Pro-Shop will be available throughout the event for Cool Merchandise. \nRegistration Includes: 4 Day Immersion Training\, Written Materials\,  Certificates Earned\, Winter Cane Immersion Shirt\, Plus Bonus Tuesday Night: Cane & Empty Hand Vital Points and Anatomical Targeting.   \nThe Ratio of Instructors to Caners 6 to 1 or better for  Maximum Personal Attention.  We expect it to hit capacity sooner than usual. Don’t be get locked out of this one.  \nMake plans to attend NOW! \nCall 800-289-8188 for details or Text FALL24 to 305-745-7839 \nThis Training Is  ideal for today’s world! Follow us on our Youtube Channel: American Cane Self Defense\nTEXT WINTER24 TO 305-745-7839 OR CALL 800-289-8188\n  \nCLICK BELOW FOR SOBREVIVENCIA & CANEFLOW INSIGHTS!\nSOBREVIVENCIA HIGHLIGHTS! (CLICK IMAGE BELOW)\n \nSV & CaneFlow Video Segments (CLICK ON IMAGE):\nThe Secret Power of Cane Walking SV Style! \n \n  \n  \nSobrevivencia: How To Win EVERY Fight!\n \n  \n  \nSobrevivencia Secrets You Should Know (Ruiz & Robaina)\n \nCaneFlow Insights (click on images)\nHidden CaneFlow Secrets Revealed! \n\n  \nCane + Empty Hand – What You Need To Know! \n  \n \n  \nCaneFlow vs FistFlow- How It Works! \n \n  \n  \nWHAT CANERS SAY ABOUT THE  CANE IMMERSION EXPERIENCE:\n  \n \n \n  \n  \n  \n \n \n \nCLICK ON PICS TO WATCH VIDEOs?
URL:https://americancaneselfdefense.com/event/winter-cane-immersion-2021-feb-17-19-american-cane-boxing-certification/
LOCATION:ACSD HQ\, 1501 SW 8Th Stree\, Miami\, FL\, 33135\, United States
CATEGORIES:Empty Hand,Sobrevivencia
ATTACH;FMTTYPE=image/jpeg:https://americancaneselfdefense.com/wp-content/uploads/2020/11/FCI-Online-2024-Image-Ruiz-Robaina.jpg
END:VEVENT
BEGIN:VEVENT
DTSTART;TZID=America/New_York:20240110T190000
DTEND;TZID=America/New_York:20240313T200000
DTSTAMP:20260424T213215
CREATED:20230207T185745Z
LAST-MODIFIED:20231201T193302Z
UID:10862-1704913200-1710360000@americancaneselfdefense.com
SUMMARY:SOBREVIVENCIA-  Learn "The Art of Survival" 10 Week Academy-Miami\, Fl. HQ
DESCRIPTION:The Sobrevivencia 10 Week Self Defense Survival Training in Miami\, Fl!\nSTARTS January 10 2024!\nINCLUDES FREE SOBREVIVENCIA ONLINE PATREON MEMBERSHIP!* \n(*while active SV Student) \n                     MUST BE REGISTERED BY DECEMBER 2023 FOR $275 DISCOUNT! \nWednesdays 7pm-8pm for 10 Weeks!\nLEARN PRACTICAL SELF DEFENSE FOR TODAY’S WORLD!\n– OPEN TO ABSOLUTE BEGINNERS and EXPERIENCED ALIKE- \nIf you want to learn practical self defense for today’s world so you can have the peace of mind you deserve\, THIS is your unique opportunity to learn it in just 10 weeks! \nSobrevivencia (spanish for Survival) is the Cuban Art of Survival founded by Maestro Eduardo Ruiz in the island of Cuba under political oppression and high stress conditions.  The method emphasizes non resistance\, avoidance\, prevention\, and if absolutely unavoidable\, the smart and effective way to protect yourself and loved ones even when your opponent is bigger\, stronger\, younger\, faster\, armed\, or you are outnumbered. The system uses the common walking Cane (mobility device legal to carry anywhere ) to teach tangible and effective self protection principles and how to turn ANY object including your empty hands as formidable self protection tools so you can walk empowered for all your days. \nYou will learn REAL self protecion\, BOTH tools and empty hand training from the trenches (not theroy or sport)\, tested under duress.Your training includes mental and verbal components which take into account the legal aspects of self protection so you make smart decisions to protect yourself and loved ones. \nDuring this unique 8 Week Survival Training\, not only will you develop your self defense skills\,  you will develop the mental and physical fluidity to respond effectively under the duress of any assault so you know exactly what to say and do and not freeze up under stress. The training is engrained in the nerve system\, so you can respond appropriately under the stress of an assault without being paralyzed by the fear and shock of the moment. \nSobrevivencia is also fun movement based art and a stress reliever that appeals to all ages (teens & Adults) with physical and mental benefits to complement practical self defense skills.  It provides a complete system you can do at home or anywhere for life.  It’s practical self defense\, functional fitness\, and fun rolled into one! \nCALL: 800-289-8188 with any questions\nTEXT “SV2023” to 305-745-7839 for your No Cost Clarity Call -Where You Will Have ALL Your Questions Answered!\n\nWATCH AMERICAN CANE SELF DEFENSE FOUNDER &  SOBREVIVENCIA HEIR JOE ROBAINA DEMONSTRATE SV INSIGHTS BELOW!\nSV VIDEO #1: https://youtu.be/rYSMAKRqE8k\nSV VIDEO #2: https://youtu.be/5YEtacjcFFI\nSV VIDEO #3: https://youtu.be/EAFq3I_Oswk\nSV VIDEO #4: https://youtu.be/DPQ8M67-WHI\nSV VIDEO #5: https://youtu.be/BovEhzkpGRI\nSV VIDEO #6: https://youtu.be/jFPRYpxhz_o\nSV VIDEO #7: https://youtu.be/BuNURl0xxrY\nSV VIDEO #8: https://youtu.be/g_W377b-y2o\nSV VIDEO #9: https://youtu.be/g_W377b-y2o\nSV VIDEO #10: https://youtu.be/g5t39c-hFDA\nSV VIDEO #11: https://youtu.be/g0W4gg6chQQ
URL:https://americancaneselfdefense.com/event/american-cane-boxing-6-week-academy-miami-fl-hq/
LOCATION:ACSD HQ\, 1501 SW 8Th Stree\, Miami\, FL\, 33135\, United States
CATEGORIES:Sobrevivencia
ATTACH;FMTTYPE=image/jpeg:https://americancaneselfdefense.com/wp-content/uploads/2023/02/IMG_0358-scaled.jpg
END:VEVENT
BEGIN:VEVENT
DTSTART;TZID=America/New_York:20230919T183000
DTEND;TZID=America/New_York:20230922T140000
DTSTAMP:20260424T213215
CREATED:20200211T213437Z
LAST-MODIFIED:20230721T213547Z
UID:9310-1695148200-1695391200@americancaneselfdefense.com
SUMMARY:Fall Cane Immersion Training 2023-SOBREVIVENCIA-Cuban Cane Art of Survival-Level 1 Certification!!
DESCRIPTION:First Time Ever Offered: A Special LIVE Hands -On Training at the ACSD HQ in Miami\, Fl… \nFall Cane Immersion Training  2023- \nSOBREVIVENCIA: The Art of Survival\nLevel 1 (Nivel Basico) Certification with Founder Maestro Eduardo Ruiz!\nSEPT 19-22\, Miami Florida ☀️\n(5 NEW SPOTS WERE ADDED JUNE 20- ONE SPOT AVAILABLE!)\nREQUIRES PHONE CALL IF FIRST TIME ATTENDING! – \nPLEASE TEXT “FALL2023 TTO 305-745-7839\n  \nLearn the unique Cuban Cane Art of Survival from its’ Founder in an intimate setting!\nDeveloped for survival under political oppression\, this unique in-person\, Hands-On Cane Training  Will Focus On Sobrevivencia’s Cane-Empty Hand Applications. Carried out in the Best and Most Enjoyable In Person Cane Training Experience ACSD Immersions are known for!\n* Don’t Take Our Word For It- Read and Listen To Why Participants Say It’s One of the Best and Most Enjoyable Learning Experiences They’ve Ever Invested In.*\nPLEASE NOTE: Registration is  always limited for your best learning experience. Learn More By Calling 800-289-8188\nCaners worldwide say our Cane Immersions are amongst the best learning and overall experiences they’ve ever invested in.\nThe Sept 19-22 is a No Brainer!\nHere’s Why:\n\nYou’ll fast track your Cane skills with support\, guidance\, care and a great community of like minded Caners!\n Meet Caners worldwide who are learning the self protection and movement benfits of the Cane with structure\, support\, and accountability for the most enjoyable Canin’ experience.\n Experience Sobrevivencia’s versatility and practical application so you walk out with understanding that will transform your Cane practice.\nPractical Cane Self Defense applications of Cane and Empty Hand skills revealed so you know the meaning and intent of every move directly from the Founder of the System.\n*This Immersion will  focus on the “from the trenches” smooth\, deceptive\, and effective Cane & Empty Hand applications Sobrevivencia is known for.\n\nBONUS SESSIONS with Grandmaster Bram Frank on the CRMIPT and ACSD founder Joe Robaina and CaneFlow Moves for Mastery: Tuesday Sept 19 – 6:30pm – 8:30\n\nWe typically feature  world class presenters and the collective brain power of experienced Caners who LOVE to  contribute – because we whole heartedly believe we Cane Better Together!\nNot to mention the surprise sessions we typically throw in.\nBest of All…..\nIt’s all the fun and mind blowing Cane insights and training in a live\, hands-on setting\nThat means you’re getting it straight from the source!\n\nWATCH AMERICAN CANE SELF DEFENSE FOUNDER &  SOBREVIVENCIA HEIR JOE ROBAINA DEMONSTRATE SOBREVIVENCIA INSIGHTS BELOW!\nSV VIDEO #1: https://youtu.be/rYSMAKRqE8k\nSV VIDEO #2: https://youtu.be/5YEtacjcFFI\nSV VIDEO #3: https://youtu.be/EAFq3I_Oswk\nSV VIDEO #4: https://youtu.be/DPQ8M67-WHI\nSV VIDEO #5: https://youtu.be/BovEhzkpGRI\nSV VIDEO #6: https://youtu.be/jFPRYpxhz_o\nSV VIDEO #7: https://youtu.be/BuNURl0xxrY\nSV VIDEO #8: https://youtu.be/g_W377b-y2o\nSV VIDEO #9: https://youtu.be/g_W377b-y2o\nSV VIDEO #10: https://youtu.be/g5t39c-hFDA\nSV VIDEO #11: https://youtu.be/g0W4gg6chQQ\n\n\nHere’s what ACSD Immersion Graduates say about this transformational training: \n \n \n \n “In my work as a government consultant\, I travel to many troubled places in the world where I feel a need for greater personal security. After carefully evaluating my options\, I determined that Joe Robaina is one of the two specialists in cane defense and the best possible instructor. Twelve months ago I began training privately with Grandmaster Robaina at his studio in Miami for several hours of private instruction each week.  \n– my instruction works around  my physical limitations\, \n– GM Robaina is patient and understanding but focused and a true professional \n– my training centers on self-defense and “street combat” scenarios which closely replicate my real my world travel experiences on airplanes\, trains\, restaurants\, crowded streets\, etc.\, \n– my sessions  never exceed my limitations. \n– my learning has happened very quickly. After several weeks of training\, I felt a new level of confidence. \n– GM Robaina tailors each session to my interests and needs. \nI am pleased to enthusiastically recommend training with Joe Robaina and his American Cane self Defense Elite/Immersion  private training system. \nH. Keith Melton\, U.S. Consultant\, Central Intelligence Agency \n  \nEspecially during these times of adversity and uncertainty\, we look forward to bringing you the most productive and most effective Cane Training Experience.\nIf this sounds like what you want\, then call 800-289-8188 OR  text FALL2022 to 305-745-7839 and we will jump on a call to answer all your questions and ensure you’re a great fit.\n 4-Day Cane Immersion Itinerary PLUS BONUS Sessions with Grandmaster Bram Frank (CSSD) and ACSD Founder Joe Robaina\nBONUS SESSIONS-Tuesday Canin’ with GMs Bram Frank & Joe Robaina  6:30pm-8:30pm  \nDAY 1 Tuesday Night (6:30-8:30 BONUS Training with Grandmasters Bram Frank & Joe Robaina)\nDAY 2 Wednesday (9am-2:pm)  Maestro Eduardo Ruiz\, “Sobrevivencia (Survival) Cane & Empty Hand System Level 1 Part 1\nDAY 3 Thursday (9am-2pm) Maestro Eduardo Ruiz\, “Sobrevivencia (Survival) Cane & Empty Hand System Level 1 Part 2\nDAY 4 Friday (9am-2pm) Maestro Eduardo Ruiz\, “Sobrevivencia (Survival) Cane & Empty Hand System Level 1 Part 3 Plus Round Table Q&A with the Grandmasters and Awarding of Certifications!\nINCLUDED:  \nTesting\, Applications\, Partnered Drilling\, Empty Hand Revelations\, Self Defense Applications\, Diminishing effect of Strikes\, Delivering the More Powerful Strike. \nACSD Masters and Coaches Coaches Round Table Discussions Plus Q & A\nAwarding of Immersion Certificates & Ranks Earned\nLUNCH OUTING & FELLOWSHIP FOLLOWING GRADUATION (optional\, self pay) \nRegistration Includes:\n4 Day Immersion Training \, BONUS Tuesday Night Sessions with the Masters\, Written Notes\,  Immersion Certificates\, Cane Immersion Themed Shirt\, \nThe Ratio of Instructors to Caners will be 6 to 1 for Maximum Personal Attention. That’s why we ALWAYS limit participation.\nMake Plans NOW To Attend-This One Sells Out FAST\nCALL 800-289-8188 for details or text FALL2023 to 305-745-7839\nFollow us on our YouTube Channel: American Cane Self Defense \nLISTEN TO WHAT IMMERSION ATTENDEES SAY BELOW ABOUT THE ACSD CANE IMMERSION EXPERIENCE\, THEN CALL 800-289-8188\nBefore you reach out\, read and listen for yourself to what others had to say about their recent experience at ACSD Cane Immersions and why many continue attending! \n     \n  \nRichard Doc Stull\, California- aka RojoRicardo: “Great Instruction\, Challenging\, and Fun! See You In September!”\nhttps://youtu.be/ZNxALevBF14 \n  \nMarc Mintz\, New Mexico: “Leaving with the ability to pass it on to others…” \nhttps://youtu.be/GAQVsevVQ74 \n  \nRoland Brown\, Medical Doctor from Georgia     : “Wonderful Experience\, confidence booster\, recommend to ALL!” \nhttps://youtu.be/mRjrTT1RtH8 \nMike Murphy\, Indiana: ” Fun\, friendly\, learned lots and most important…FUN!” \nhttps://youtu.be/thznoBkKLMA \n 
URL:https://americancaneselfdefense.com/event/c-o-b-r-a-cane-self-defense-immersion-as-of-2-11-25-full/
LOCATION:ACSD HQ\, 1501 SW 8Th Stree\, Miami\, FL\, 33135\, United States
CATEGORIES:Sobrevivencia
ATTACH;FMTTYPE=image/png:https://americancaneselfdefense.com/wp-content/uploads/2020/02/SV-Immersion-Photo-Fall-2023-Immersion.png
END:VEVENT
END:VCALENDAR